BEGIN:VCALENDAR
VERSION:2.0
PRODID:icalendar-ruby
CALSCALE:GREGORIAN
METHOD:PUBLISH
BEGIN:VEVENT
DTSTAMP:20260423T001103Z
UID:2-326622@ghcevv.org
DTSTART:20261025T160000Z
DTEND:20261025T174500Z
CLASS:PUBLIC
CREATED:20260422T190051
DESCRIPTION:The title says it all... This is our more contemporary and pack
 ed worship service. It is an experience!
LAST-MODIFIED:20260422T190051
LOCATION:Main Sanctuary- 1228 Lodge Ave
SUMMARY:11AM Worship Experience
URL;VALUE=URI:https://www.ghcevv.org/events/11am-worship-experience/2026-10
 -25
ATTACH;FILENAME=GHC-Worship.jpeg;FMTTYPE=image/jpeg:https://dq5pwpg1q8ru0.c
 loudfront.net/2024/10/22/17/17/45/30f5e6e2-edaf-42bb-a918-0d1e8462b276/GHC
 -Worship.jpeg
END:VEVENT
END:VCALENDAR
